BEGIN:VCALENDAR
VERSION:2.0
PRODID:-//Plone.org//NONSGML plone.app.event//EN
X-WR-TIMEZONE:Europe/Vienna
BEGIN:VEVENT
SUMMARY:Research Day 2021 der Akademie
DTSTART;TZID=Europe/Vienna:20211111T100000
DTEND;TZID=Europe/Vienna:20211111T174500
DTSTAMP:20260424T064047Z
UID:aa459a8286e728c68bda151034b41d26@www.akbild.ac.at
CATEGORIES:Konferenzen
CREATED:20220312T112038Z
DESCRIPTION:Der Research Day 2021 der Akademie vermittelt die Bandbreite a
 ktueller  Forschungsarbeiten an der Akademie der bildenden Künste Wien\, 
 gibt  Einblicke in konkrete Projekte und deren Ergebnisse und lädt zur  k
 ollegialen Diskussion ein. Im Zentrum des Research Day stehen  Präsentati
 onen der (Zwischen-)Ergebnisse von Forschungsprojekten im  fortgeschritten
 en Stadium.
LAST-MODIFIED:20240802T102205Z
URL:https://www.akbild.ac.at/de/forschung/veranstaltungen/konferenzen/2021
 /research-day-2021
END:VEVENT
BEGIN:VTIMEZONE
TZID:Europe/Vienna
X-LIC-LOCATION:Europe/Vienna
BEGIN:STANDARD
DTSTART:20211031T020000
TZNAME:CET
TZOFFSETFROM:+0200
TZOFFSETTO:+0100
END:STANDARD
END:VTIMEZONE
END:VCALENDAR
