BEGIN:VCALENDAR
VERSION:2.0
PRODID:-//Plone.org//NONSGML plone.app.event//EN
X-WR-TIMEZONE:Europe/Vienna
BEGIN:VEVENT
SUMMARY:Graduiertenkonferenz 2023
DTSTART;TZID=Europe/Vienna:20230425T093000
DTEND;TZID=Europe/Vienna:20230425T140000
DTSTAMP:20260419T162328Z
UID:a83c0fde581b41649bcc3a42b934f5b9@www.akbild.ac.at
CREATED:20230403T080048Z
DESCRIPTION:Wir freuen uns auch dieses Jahr zur Graduiertenkonferenz des D
 oktoratszentrums einladen zu dürfen.
LAST-MODIFIED:20240802T102205Z
URL:https://www.akbild.ac.at/de/forschung/veranstaltungen/konferenzen/2023
 /graduiertenkonferenz-2023
END:VEVENT
BEGIN:VTIMEZONE
TZID:Europe/Vienna
X-LIC-LOCATION:Europe/Vienna
BEGIN:DAYLIGHT
DTSTART:20230326T030000
TZNAME:CEST
TZOFFSETFROM:+0100
TZOFFSETTO:+0200
END:DAYLIGHT
END:VTIMEZONE
END:VCALENDAR
