BEGIN:VCALENDAR
VERSION:2.0
PRODID:-//Plone.org//NONSGML plone.app.event//EN
X-WR-TIMEZONE:Europe/Vienna
BEGIN:VEVENT
SUMMARY:Einladung zum Pro-Action-Café zur gemeinsamen Entwicklung des Doc
 -Workshop-Programms für Doktorand_innen der Akademie der bildenden Künst
 e Wien und der Kunstuniversität Linz
DTSTART;TZID=Europe/Vienna:20141118T140000
DTEND;TZID=Europe/Vienna:20141118T180000
DTSTAMP:20260424T173929Z
UID:f3f662939161ca1adc2f615519a66ef3@www.akbild.ac.at
CATEGORIES:Vorträge / Veranstaltungen
CREATED:20220312T111608Z
LAST-MODIFIED:20240802T102159Z
URL:https://www.akbild.ac.at/de/forschung/veranstaltungen/vortrage-events/
 2014/einladung-zum-pro-action-cafe-zur-gemeinsamen-entwicklung-des-doc-wor
 kshop-programms
END:VEVENT
BEGIN:VTIMEZONE
TZID:Europe/Vienna
X-LIC-LOCATION:Europe/Vienna
BEGIN:STANDARD
DTSTART:20141026T020000
TZNAME:CET
TZOFFSETFROM:+0200
TZOFFSETTO:+0100
END:STANDARD
END:VTIMEZONE
END:VCALENDAR
