BEGIN:VCALENDAR
VERSION:2.0
PRODID:-//Plone.org//NONSGML plone.app.event//EN
X-WR-TIMEZONE:Europe/Vienna
BEGIN:VEVENT
SUMMARY:Mittel für die Forschung
DTSTART;TZID=Europe/Vienna:20141210T103000
DTEND;TZID=Europe/Vienna:20141210T140000
DTSTAMP:20260419T125045Z
UID:cde3c852098d4b0f8f98a32473dc1eec@www.akbild.ac.at
CATEGORIES:Vorträge / Veranstaltungen
CREATED:20220312T111614Z
DESCRIPTION:FWF-Informationsveranstaltung für Kunstuniversitäten
LAST-MODIFIED:20240802T102205Z
URL:https://www.akbild.ac.at/de/forschung/veranstaltungen/vortrage-events/
 2014/mittel-fuer-die-forschung
END:VEVENT
BEGIN:VTIMEZONE
TZID:Europe/Vienna
X-LIC-LOCATION:Europe/Vienna
BEGIN:STANDARD
DTSTART:20141026T020000
TZNAME:CET
TZOFFSETFROM:+0200
TZOFFSETTO:+0100
END:STANDARD
END:VTIMEZONE
END:VCALENDAR
