BEGIN:VCALENDAR
VERSION:2.0
PRODID:-//Plone.org//NONSGML plone.app.event//EN
X-WR-TIMEZONE:Europe/Vienna
BEGIN:VEVENT
SUMMARY:Präsentation von Band 15 und Band 17 der Schriftenreihe der Akade
 mie der bildenden Künste Wien
DTSTART;TZID=Europe/Vienna:20151110T190000
DTSTAMP:20260419T132256Z
UID:7276d58593f0f142024970db2d18ce15@www.akbild.ac.at
CREATED:20220312T111625Z
DESCRIPTION:Not Now! Now! Chronopolitics\, Art &amp\; Research\,  Bd. 15\,
  Hg. Renate Lorenz\, Berlin: Sternberg Press 2015\n \n Pink Labor on Golde
 n Streets. Queer Art Practices\,  Bd. 17\, Hg. Christiane Erharter\, Dietm
 ar Schwärzler\, Ruby Sircar\, Hans Scheirl\, Berlin: Sternberg Press 2015
 .
LAST-MODIFIED:20240802T102159Z
URL:https://www.akbild.ac.at/de/forschung/veranstaltungen/vortrage-events/
 2015/praesentation-von-band-15-und-band-17-der-schriftenreihe-der-akademie
 -der-bildenden-kuenste-wien
END:VEVENT
BEGIN:VTIMEZONE
TZID:Europe/Vienna
X-LIC-LOCATION:Europe/Vienna
BEGIN:STANDARD
DTSTART:20151025T020000
TZNAME:CET
TZOFFSETFROM:+0200
TZOFFSETTO:+0100
END:STANDARD
END:VTIMEZONE
END:VCALENDAR
