BEGIN:VCALENDAR
VERSION:2.0
PRODID:-//Plone.org//NONSGML plone.app.event//EN
X-WR-TIMEZONE:Europe/Vienna
BEGIN:VEVENT
SUMMARY:Körperansichten: Geschlechterkonstruktion in kurzen Formaten
DTSTART;TZID=Europe/Vienna:20160301T193000
DTSTAMP:20260426T034633Z
UID:ad33f60b3c6a4c1d025d3c01fee6f711@www.akbild.ac.at
CATEGORIES:Vorträge / Veranstaltungen
CREATED:20220312T111655Z
DESCRIPTION:Studierende und Absolvent_innen der Akademie  wurden eingelade
 n\, zum Thema\n \n  Körperansichten: Geschlechterkonstruktion in kurzen F
 ormaten\n \n aktuelle Arbeiten bis zu einer Länge von 10 Minuten  einzure
 ichen.
LAST-MODIFIED:20240802T102159Z
URL:https://www.akbild.ac.at/de/forschung/veranstaltungen/vortrage-events/
 2016/koerperansichten-geschlechterkonstruktion-in-kurzen-formaten
END:VEVENT
BEGIN:VTIMEZONE
TZID:Europe/Vienna
X-LIC-LOCATION:Europe/Vienna
BEGIN:STANDARD
DTSTART:20151025T020000
TZNAME:CET
TZOFFSETFROM:+0200
TZOFFSETTO:+0100
END:STANDARD
END:VTIMEZONE
END:VCALENDAR
