BEGIN:VCALENDAR
VERSION:2.0
PRODID:-//Plone.org//NONSGML plone.app.event//EN
X-WR-TIMEZONE:Europe/Vienna
BEGIN:VEVENT
SUMMARY:Pablo Toulouse | Has animation grown to be a powerful story tellin
 g tool for marginalized topics?
DTSTART;TZID=Europe/Vienna:20170530T170000
DTSTAMP:20260424T005316Z
UID:74100de3ad52541e2a5009e05bb47d5f@www.akbild.ac.at
CATEGORIES:Vorträge / Veranstaltungen
CREATED:20220312T111758Z
DESCRIPTION:Die Akademie freut sich die Gastkünstler für das Jahr 2017 b
 ekannt zu   geben. Den Auftakt im Sommersemester macht Pablo Toulouse (Mä
 rz-Juni)   gefolgt von Susana Pilar Delahantes Matienzo (April-Juni) sowie
  Midori   Mitamura and Juliana Dos Santos (beide im Wintersemester 2017/18
 ).
LAST-MODIFIED:20240802T102159Z
URL:https://www.akbild.ac.at/de/forschung/veranstaltungen/vortrage-events/
 2017/pablo-toulouse-artist-in-residence-2017
END:VEVENT
BEGIN:VTIMEZONE
TZID:Europe/Vienna
X-LIC-LOCATION:Europe/Vienna
BEGIN:DAYLIGHT
DTSTART:20170326T030000
TZNAME:CEST
TZOFFSETFROM:+0100
TZOFFSETTO:+0200
END:DAYLIGHT
END:VTIMEZONE
END:VCALENDAR
