BEGIN:VCALENDAR
VERSION:2.0
PRODID:-//Plone.org//NONSGML plone.app.event//EN
X-WR-TIMEZONE:Europe/Vienna
BEGIN:VEVENT
SUMMARY:FWF-Informationsveranstaltung | Mittel für die Forschung
DTSTART;TZID=Europe/Vienna:20181114T100000
DTEND;TZID=Europe/Vienna:20181114T130000
DTSTAMP:20260425T131141Z
UID:c7d655f0d0be36e55d98d49faf3cf735@www.akbild.ac.at
CATEGORIES:Vorträge / Veranstaltungen
CREATED:20220312T111830Z
DESCRIPTION:Der Wissenschaftsfonds (FWF) lädt gemeinsam mit den Forschung
 sservices der Wiener Kunstuniversitäten zu einer FWF Informationsveransta
 ltung ein.
LAST-MODIFIED:20240802T102159Z
URL:https://www.akbild.ac.at/de/forschung/veranstaltungen/vortrage-events/
 2018/fwf-informationsveranstaltung-mittel-fuer-die-forschung
END:VEVENT
BEGIN:VTIMEZONE
TZID:Europe/Vienna
X-LIC-LOCATION:Europe/Vienna
BEGIN:STANDARD
DTSTART:20181028T020000
TZNAME:CET
TZOFFSETFROM:+0200
TZOFFSETTO:+0100
END:STANDARD
END:VTIMEZONE
END:VCALENDAR
