BEGIN:VCALENDAR
VERSION:2.0
PRODID:-//Plone.org//NONSGML plone.app.event//EN
X-WR-TIMEZONE:Europe/Vienna
BEGIN:VEVENT
SUMMARY:So arbeite ich selbstbestimmt und non-linear!
DTSTART;TZID=Europe/Vienna:20190523T140000
DTEND;TZID=Europe/Vienna:20190523T170000
DTSTAMP:20260425T234601Z
UID:7ccf5787a644c8c8ee2f1e7c2d4ae0d3@www.akbild.ac.at
CATEGORIES:Vorträge / Veranstaltungen
CREATED:20220312T111842Z
DESCRIPTION:Ich stehe am Anfang meiner Karriere und benötige Starthilfe? 
 Ich möchte  mich inhaltlich umorientieren – bin mir aber unsicher\, ob 
 und wie ich  das finanziell und organisatorisch am besten gestalte? Dieser
   Hands-on-Workshop will praktische Wege aufzeigen\, wie ich das erreiche\
 ,  was ich will: zum selbstbestimmten Arbeiten im Kreativ- und  Medien-Ber
 eich.
LAST-MODIFIED:20240802T102159Z
URL:https://www.akbild.ac.at/de/forschung/veranstaltungen/vortrage-events/
 2019/so-arbeite-ich-selbstbestimmt-und-non-linear
END:VEVENT
BEGIN:VTIMEZONE
TZID:Europe/Vienna
X-LIC-LOCATION:Europe/Vienna
BEGIN:DAYLIGHT
DTSTART:20190331T030000
TZNAME:CEST
TZOFFSETFROM:+0100
TZOFFSETTO:+0200
END:DAYLIGHT
END:VTIMEZONE
END:VCALENDAR
