BEGIN:VCALENDAR
VERSION:2.0
PRODID:-//Plone.org//NONSGML plone.app.event//EN
X-WR-TIMEZONE:Europe/Vienna
BEGIN:VEVENT
SUMMARY:So arbeite ich selbstbestimmt und non-linear!
DTSTART;TZID=Europe/Vienna:20201126T140000
DTEND;TZID=Europe/Vienna:20201126T160000
DTSTAMP:20260425T192659Z
UID:eced234d5b2be742ea10a4ba0416e067@www.akbild.ac.at
CATEGORIES:Vorträge / Veranstaltungen
CREATED:20220312T111859Z
DESCRIPTION:Ich stehe am Anfang meiner Karriere und benötige Starthilfe? 
 Ich möchte mich inhaltlich umorientieren – bin mir aber unsicher\, ob u
 nd wie ich das finanziell und organisatorisch am besten gestalte? Dieser O
 nline-Workshop will praktische Wege aufzeigen\, wie ich das erreiche\, was
  ich will: zum selbstbestimmten Arbeiten im Kreativ- und Medien-Bereich.
LAST-MODIFIED:20240802T102159Z
URL:https://www.akbild.ac.at/de/forschung/veranstaltungen/vortrage-events/
 2020/so-arbeite-ich-selbstbestimmt-und-non-linear
END:VEVENT
BEGIN:VTIMEZONE
TZID:Europe/Vienna
X-LIC-LOCATION:Europe/Vienna
BEGIN:STANDARD
DTSTART:20201025T020000
TZNAME:CET
TZOFFSETFROM:+0200
TZOFFSETTO:+0100
END:STANDARD
END:VTIMEZONE
END:VCALENDAR
