BEGIN:VCALENDAR
VERSION:2.0
PRODID:-//Plone.org//NONSGML plone.app.event//EN
X-WR-TIMEZONE:Europe/Vienna
BEGIN:VEVENT
SUMMARY:Einladung zur Defensio von Max Rafael Moya Martinez
DTSTART;TZID=Europe/Vienna:20211006T180000
DTSTAMP:20260423T144040Z
UID:6328a45e6599b9ca92909f597c02f213@www.akbild.ac.at
CATEGORIES:Vorträge / Veranstaltungen
CREATED:20220312T111913Z
DESCRIPTION:Das Institut für Kunst und Architektur der Akademie der bilde
 nden Künste lädt herzlich zur Defensio von Max Rafael Moya Martinez'  Wh
 o has seen Adolf Loos ?: Images of Adolf Loos’s Architecture in the Medi
 a 1899-1927  ein.\nMitglieder des Prüfungssenats sind: Univ:Prof. Mag. MA
  Wolfgang Tschapeller (Vorsitzender)\, Doz. Mag. Dr. Ao.Univ.-Prof. August
  Sarnitz (1. Betreuer) und Dr. Beatriz Colomina (externe Gutachterin\, Pri
 nceton University School of Architecture).
LAST-MODIFIED:20240802T102154Z
URL:https://www.akbild.ac.at/de/forschung/veranstaltungen/vortrage-events/
 2021/einladung-zur-defensio-von-max-rafael-moya-martinez
END:VEVENT
BEGIN:VTIMEZONE
TZID:Europe/Vienna
X-LIC-LOCATION:Europe/Vienna
BEGIN:DAYLIGHT
DTSTART:20210328T030000
TZNAME:CEST
TZOFFSETFROM:+0100
TZOFFSETTO:+0200
END:DAYLIGHT
END:VTIMEZONE
END:VCALENDAR
