BEGIN:VCALENDAR
VERSION:2.0
PRODID:-//Plone.org//NONSGML plone.app.event//EN
X-WR-TIMEZONE:Europe/Vienna
BEGIN:VEVENT
SUMMARY:Open Arts. Workshop | Kunst Forschung Gesellschaft
DTSTART;TZID=Europe/Vienna:20210617T100000
DTEND;TZID=Europe/Vienna:20210617T170000
DTSTAMP:20260424T045817Z
UID:2a82a805df75996b21d815c02148f343@www.akbild.ac.at
CATEGORIES:Vorträge / Veranstaltungen
CREATED:20220312T111910Z
DESCRIPTION:Unter dem Titel "Open Arts. Partizipative Praktiken zwischen K
 unst\,  Wissenschaft und Forschung" präsentiert die Akademie der bildende
 n  Künste Wien zusammen mit der\n \n  \n   Ludwig Boltzmann Gesellschaft\
 n  \n \n eine neue Weiterbildungsreihe\, die im November 2020 mit einem er
 sten  Workshop startete und nun im Juni 2021 fortgesetzt werden soll. Für
  die Teilnahme an dem Workshop ist eine Bewerbung erforderlich!
LAST-MODIFIED:20240802T102154Z
URL:https://www.akbild.ac.at/de/forschung/veranstaltungen/vortrage-events/
 2021/open-arts.-workshop-kunst-forschung-gesellschaft
END:VEVENT
BEGIN:VTIMEZONE
TZID:Europe/Vienna
X-LIC-LOCATION:Europe/Vienna
BEGIN:DAYLIGHT
DTSTART:20210328T030000
TZNAME:CEST
TZOFFSETFROM:+0100
TZOFFSETTO:+0200
END:DAYLIGHT
END:VTIMEZONE
END:VCALENDAR
