BEGIN:VCALENDAR
VERSION:2.0
PRODID:-//Plone.org//NONSGML plone.app.event//EN
X-WR-TIMEZONE:Europe/Vienna
BEGIN:VEVENT
SUMMARY:Survival-Training für Künstler_innen | Teil 2 Sozialversicherung
DTSTART;VALUE=DATE:20210317
DTEND;VALUE=DATE:20210318
DTSTAMP:20260423T132124Z
UID:606231f17dc964d63795f2804d171738@www.akbild.ac.at
CREATED:20220312T111905Z
DESCRIPTION:Das kostenlose Survival-Training "Steuer und Sozialversicherun
 g für Künstler_innen" findet auch in diesem Semester als mehrteiliges Li
 ve-Video-Format statt. Teil 2 widmet sich dem Thema Sozialversicherung.
LAST-MODIFIED:20240802T102154Z
URL:https://www.akbild.ac.at/de/forschung/veranstaltungen/vortrage-events/
 2021/survival-training-fuer-kuenstler_innen-teil-2-sozialversicherung/SubE
 vent
END:VEVENT
END:VCALENDAR
