BEGIN:VCALENDAR
VERSION:2.0
PRODID:-//Plone.org//NONSGML plone.app.event//EN
X-WR-TIMEZONE:Europe/Vienna
BEGIN:VEVENT
SUMMARY:Survival-Training für Künstler_innen | Teil 1 Steuer
DTSTART;VALUE=DATE:20210224
DTEND;VALUE=DATE:20210225
DTSTAMP:20260423T113356Z
UID:080e79fbe1a3c06fb35f92f4de15b0c2@www.akbild.ac.at
CREATED:20220312T111902Z
DESCRIPTION:Das kostenlose Survival-Training "Steuer und Sozialversicherun
 g für Künstler_innen" findet auch in diesem Semester als mehrteiliges Li
 ve-Video-Format statt. Teil 1 widmet sich dem Thema Steuer.
LAST-MODIFIED:20240802T102154Z
URL:https://www.akbild.ac.at/de/forschung/veranstaltungen/vortrage-events/
 2021/survival-trainng-fuer-kuenstler_innen-teil-1-steuer/SubEvent
END:VEVENT
END:VCALENDAR
