BEGIN:VCALENDAR
VERSION:2.0
PRODID:-//Plone.org//NONSGML plone.app.event//EN
X-WR-TIMEZONE:Europe/Vienna
BEGIN:VEVENT
SUMMARY:Einladung zur Defensio von Julia Wolf
DTSTART;TZID=Europe/Vienna:20220119T140000
DTSTAMP:20260423T144040Z
UID:327f90f0cbebfe911ac70d98ce33c271@www.akbild.ac.at
CATEGORIES:Vorträge / Veranstaltungen
CREATED:20220312T111930Z
DESCRIPTION:Das Institut für künstlerisches Lehramt der Akademie der   b
 ildenden Künste lädt herzlich zur Defensio von Julia Wolfs   Dissertatio
 nsprojekt\n \n  Re-Visioning Histories. Zeitgenössische künstlerische Pr
 aktiken der Verschiebung von Geschichte(n) am Beispiel von Hiwa K und Petr
 it Halilaj\n \n ein.
LAST-MODIFIED:20240802T102154Z
URL:https://www.akbild.ac.at/de/forschung/veranstaltungen/vortrage-events/
 2022/einladung-zur-defensio-von-julia-wolf
END:VEVENT
BEGIN:VTIMEZONE
TZID:Europe/Vienna
X-LIC-LOCATION:Europe/Vienna
BEGIN:STANDARD
DTSTART:20211031T020000
TZNAME:CET
TZOFFSETFROM:+0200
TZOFFSETTO:+0100
END:STANDARD
END:VTIMEZONE
END:VCALENDAR
