BEGIN:VCALENDAR
VERSION:2.0
PRODID:-//Plone.org//NONSGML plone.app.event//EN
X-WR-TIMEZONE:Europe/Vienna
BEGIN:VEVENT
SUMMARY:Einladung zur Defensio von Fatma Uysal
DTSTART;TZID=Europe/Vienna:20230605T090000
DTEND;TZID=Europe/Vienna:20230605T100000
DTSTAMP:20260424T055738Z
UID:ae8d5dfe09f2421ab51de79e504b3e4f@www.akbild.ac.at
CATEGORIES:Vorträge / Veranstaltungen
CREATED:20230515T105720Z
DESCRIPTION:Das Institut für Kunst und Kulturwissenschaften der Akademie 
 der bildenden Künste lädt herzlich zur Defensio von Fatma Uysals Dissert
 ation Breaking The Stereotype.Visualisierung und Repräsentation von Fraue
 n im Türkischen Fernsehen ein.
LAST-MODIFIED:20240802T102154Z
URL:https://www.akbild.ac.at/de/forschung/veranstaltungen/vortrage-events/
 2023/einladung-zur-defensio-von-fatma-uysal
END:VEVENT
BEGIN:VTIMEZONE
TZID:Europe/Vienna
X-LIC-LOCATION:Europe/Vienna
BEGIN:DAYLIGHT
DTSTART:20230326T030000
TZNAME:CEST
TZOFFSETFROM:+0100
TZOFFSETTO:+0200
END:DAYLIGHT
END:VTIMEZONE
END:VCALENDAR
