BEGIN:VCALENDAR
VERSION:2.0
PRODID:-//Plone.org//NONSGML plone.app.event//EN
X-WR-TIMEZONE:Europe/Vienna
BEGIN:VEVENT
SUMMARY:Einladung zur Defensio von Florian Kindlinger
DTSTART;TZID=Europe/Vienna:20231109T140000
DTEND;TZID=Europe/Vienna:20231109T150000
DTSTAMP:20260424T185751Z
UID:5fe6f1297152412fb0472829919ec2b6@www.akbild.ac.at
CATEGORIES:Vorträge / Veranstaltungen
CREATED:20231102T161535Z
DESCRIPTION:Das Institut für Kunst und Kulturwissenschaften der Akademie 
 der bildenden Künste lädt herzlich zur Defensio von Florian Kindlingers 
 Dissertation Sonische Heterotopien – Zwischen Klang\, Musik\, Sound und 
 dem Rest ein.
LAST-MODIFIED:20240802T102154Z
URL:https://www.akbild.ac.at/de/forschung/veranstaltungen/vortrage-events/
 2023/einladung-zur-defensio-von-florian-kindlinger
END:VEVENT
BEGIN:VTIMEZONE
TZID:Europe/Vienna
X-LIC-LOCATION:Europe/Vienna
BEGIN:STANDARD
DTSTART:20231029T020000
TZNAME:CET
TZOFFSETFROM:+0200
TZOFFSETTO:+0100
END:STANDARD
END:VTIMEZONE
END:VCALENDAR
