BEGIN:VCALENDAR
VERSION:2.0
PRODID:-//Plone.org//NONSGML plone.app.event//EN
X-WR-TIMEZONE:Europe/Vienna
BEGIN:VEVENT
SUMMARY:Einladung zur Defensio von Hong-Kai Wang
DTSTART;TZID=Europe/Vienna:20231115T133000
DTEND;TZID=Europe/Vienna:20231115T153000
DTSTAMP:20260423T144057Z
UID:702d42c7019643a58428f4b1b618aee5@www.akbild.ac.at
CATEGORIES:Vorträge / Veranstaltungen
CREATED:20231027T105606Z
DESCRIPTION:Das PhD-in-Practice-Programm der Akademie der bildenden Künst
 e lädt herzlich zur Defensio von Hong-Kai Wangs Dissertation The Song Is 
 Etched in Your Body: Listening for Unnamed Frequencies ein.
LAST-MODIFIED:20240802T102154Z
URL:https://www.akbild.ac.at/de/forschung/veranstaltungen/vortrage-events/
 2023/einladung-zur-defensio-von-hong-kai-wang
END:VEVENT
BEGIN:VTIMEZONE
TZID:Europe/Vienna
X-LIC-LOCATION:Europe/Vienna
BEGIN:STANDARD
DTSTART:20231029T020000
TZNAME:CET
TZOFFSETFROM:+0200
TZOFFSETTO:+0100
END:STANDARD
END:VTIMEZONE
END:VCALENDAR
