BEGIN:VCALENDAR
VERSION:2.0
PRODID:-//Plone.org//NONSGML plone.app.event//EN
X-WR-TIMEZONE:Europe/Vienna
BEGIN:VEVENT
SUMMARY:Einladung zur Defensio von Janine Jembere
DTSTART;TZID=Europe/Vienna:20231114T110000
DTEND;TZID=Europe/Vienna:20231114T130000
DTSTAMP:20260423T144057Z
UID:2e059bf54ac847078b96672f05177128@www.akbild.ac.at
CATEGORIES:Vorträge / Veranstaltungen
CREATED:20231027T121210Z
DESCRIPTION:Das PhD-in-Practice-Programm der Akademie der bildenden Künst
 e lädt herzlich zur Defensio von Janine Jemberes Dissertation Dissonance 
 – Sensual Hierarchies and Colonial Reverberations of/in Sound ein.
LAST-MODIFIED:20240802T102154Z
URL:https://www.akbild.ac.at/de/forschung/veranstaltungen/vortrage-events/
 2023/einladung-zur-defensio-von-janine-jembere
END:VEVENT
BEGIN:VTIMEZONE
TZID:Europe/Vienna
X-LIC-LOCATION:Europe/Vienna
BEGIN:STANDARD
DTSTART:20231029T020000
TZNAME:CET
TZOFFSETFROM:+0200
TZOFFSETTO:+0100
END:STANDARD
END:VTIMEZONE
END:VCALENDAR
