BEGIN:VCALENDAR
VERSION:2.0
PRODID:-//Plone.org//NONSGML plone.app.event//EN
X-WR-TIMEZONE:Europe/Vienna
BEGIN:VEVENT
SUMMARY:Einladung zur Defensio von Masha Godovannaya
DTSTART;TZID=Europe/Vienna:20231114T160000
DTEND;TZID=Europe/Vienna:20231114T180000
DTSTAMP:20260424T222028Z
UID:dbabe5dc3c6e49aaa8dddadd8cbf4130@www.akbild.ac.at
CATEGORIES:Vorträge / Veranstaltungen
CREATED:20231027T123208Z
DESCRIPTION:Das PhD-in-Practice-Programm der Akademie der bildenden Künst
 e lädt herzlich zur Defensio von Masha Godovannayas Dissertation Queer Pa
 rtisaning: Traces of Queer Relationality as Cinematic Errantry ein.
LAST-MODIFIED:20240802T102154Z
URL:https://www.akbild.ac.at/de/forschung/veranstaltungen/vortrage-events/
 2023/einladung-zur-defensio-von-masha-godovannaya
END:VEVENT
BEGIN:VTIMEZONE
TZID:Europe/Vienna
X-LIC-LOCATION:Europe/Vienna
BEGIN:STANDARD
DTSTART:20231029T020000
TZNAME:CET
TZOFFSETFROM:+0200
TZOFFSETTO:+0100
END:STANDARD
END:VTIMEZONE
END:VCALENDAR
