BEGIN:VCALENDAR
VERSION:2.0
PRODID:-//Plone.org//NONSGML plone.app.event//EN
X-WR-TIMEZONE:Europe/Vienna
BEGIN:VEVENT
SUMMARY:Einladung zur Defensio von Michael Klein
DTSTART;TZID=Europe/Vienna:20230605T100000
DTEND;TZID=Europe/Vienna:20230605T110000
DTSTAMP:20260423T045051Z
UID:5d614d43feaf4b5c83a969a86b9f75bb@www.akbild.ac.at
CATEGORIES:Vorträge / Veranstaltungen
CREATED:20230515T093825Z
DESCRIPTION:Das Institut für Kunst und Kulturwissenschaften der Akademie 
 der bildenden Künste lädt herzlich zur Defensio von Michael Kleins Disse
 rtation Die Neuaufteilung des Wohnens. Raum\, Subjekt und Regierung am Be
 ginn des sozialen Wohnungsbaus in Wien – mit Rancière und Foucault das 
 Rote Wien lesen ein.
LAST-MODIFIED:20240802T102154Z
URL:https://www.akbild.ac.at/de/forschung/veranstaltungen/vortrage-events/
 2023/einladung-zur-defensio-von-michael-klein
END:VEVENT
BEGIN:VTIMEZONE
TZID:Europe/Vienna
X-LIC-LOCATION:Europe/Vienna
BEGIN:DAYLIGHT
DTSTART:20230326T030000
TZNAME:CEST
TZOFFSETFROM:+0100
TZOFFSETTO:+0200
END:DAYLIGHT
END:VTIMEZONE
END:VCALENDAR
