BEGIN:VCALENDAR
VERSION:2.0
PRODID:-//Plone.org//NONSGML plone.app.event//EN
X-WR-TIMEZONE:Europe/Vienna
BEGIN:VEVENT
SUMMARY:Einladung zur Defensio von Rojda Tuğrul
DTSTART;TZID=Europe/Vienna:20230315T160000
DTEND;TZID=Europe/Vienna:20230315T180000
DTSTAMP:20260425T164946Z
UID:9e7a5c36c06d4758a547b89fbef85506@www.akbild.ac.at
CATEGORIES:Vorträge / Veranstaltungen
CREATED:20230214T101014Z
DESCRIPTION:Das Ph.D.-in-Practice-Programm der Akademie der bildenden Kün
 ste lädt herzlich zur Defensio von Rojda Tuğruls Dissertationsprojekt A
 n Artistic Approach to the Transformation of a War Zone Within the Kurdish
  Territories ein.
LAST-MODIFIED:20240802T102154Z
URL:https://www.akbild.ac.at/de/forschung/veranstaltungen/vortrage-events/
 2023/einladung-zur-defensio-von-rojda-tugrul
END:VEVENT
BEGIN:VTIMEZONE
TZID:Europe/Vienna
X-LIC-LOCATION:Europe/Vienna
BEGIN:STANDARD
DTSTART:20221030T020000
TZNAME:CET
TZOFFSETFROM:+0200
TZOFFSETTO:+0100
END:STANDARD
END:VTIMEZONE
END:VCALENDAR
