BEGIN:VCALENDAR
VERSION:2.0
PRODID:-//Plone.org//NONSGML plone.app.event//EN
X-WR-TIMEZONE:Europe/Vienna
BEGIN:VEVENT
SUMMARY:Einladung zum Rigorosum von Solmaz Kamalifard
DTSTART;TZID=Europe/Vienna:20231005T140000
DTEND;TZID=Europe/Vienna:20231005T153000
DTSTAMP:20260425T104550Z
UID:3947a7437fe047bd90046705a4e2314c@www.akbild.ac.at
CATEGORIES:Vorträge / Veranstaltungen
CREATED:20230926T094552Z
DESCRIPTION:Das Institut für Kunst und Architektur der Akademie der bilde
 nden Künste lädt herzlich zum Rigorosum von Solmaz Kamalifards Dissertat
 ion A Phenomenological Study of Light and Shadow as Stimuli for Occupants
 ’ Experience (Eine phänomenologische Studie von Licht und Schatten als 
 stimuli für die Erfahrungen der Nutzer) ein.
LAST-MODIFIED:20240802T102154Z
URL:https://www.akbild.ac.at/de/forschung/veranstaltungen/vortrage-events/
 2023/einladung-zur-defensio-von-solmaz-kamalifard
END:VEVENT
BEGIN:VTIMEZONE
TZID:Europe/Vienna
X-LIC-LOCATION:Europe/Vienna
BEGIN:DAYLIGHT
DTSTART:20230326T030000
TZNAME:CEST
TZOFFSETFROM:+0100
TZOFFSETTO:+0200
END:DAYLIGHT
END:VTIMEZONE
END:VCALENDAR
