BEGIN:VCALENDAR
VERSION:2.0
PRODID:-//Plone.org//NONSGML plone.app.event//EN
X-WR-TIMEZONE:Europe/Vienna
BEGIN:VEVENT
SUMMARY:Einladung zur Defensio von Virginie Bobin
DTSTART;TZID=Europe/Vienna:20231115T160000
DTEND;TZID=Europe/Vienna:20231115T180000
DTSTAMP:20260425T104543Z
UID:a18f31bc3e13442f8bc2f059066010bc@www.akbild.ac.at
CATEGORIES:Vorträge / Veranstaltungen
CREATED:20231027T135324Z
DESCRIPTION:Das PhD-in-Practice-Programm der Akademie der bildenden Künst
 e lädt herzlich zur Defensio von Virginie Bobins Dissertation "Au risque 
 des autres" Political Gestures and Affective Encounters with Translation e
 in.
LAST-MODIFIED:20240802T102154Z
URL:https://www.akbild.ac.at/de/forschung/veranstaltungen/vortrage-events/
 2023/einladung-zur-defensio-von-virginie-bobin
END:VEVENT
BEGIN:VTIMEZONE
TZID:Europe/Vienna
X-LIC-LOCATION:Europe/Vienna
BEGIN:STANDARD
DTSTART:20231029T020000
TZNAME:CET
TZOFFSETFROM:+0200
TZOFFSETTO:+0100
END:STANDARD
END:VTIMEZONE
END:VCALENDAR
