BEGIN:VCALENDAR
VERSION:2.0
PRODID:-//Plone.org//NONSGML plone.app.event//EN
X-WR-TIMEZONE:Europe/Vienna
BEGIN:VEVENT
SUMMARY:Einladung zur Defensio von Anamarija Batista
DTSTART;TZID=Europe/Vienna:20241106T150000
DTSTAMP:20260425T222305Z
UID:e3558aec07474dcc89976336ab4f6047@www.akbild.ac.at
CATEGORIES:Vorträge / Veranstaltungen
CREATED:20241028T085006Z
DESCRIPTION:Das Institut für Kunst- und Kulturwissenschaften der Akademie
  der bildenden Künste lädt herzlich zur Defensio von Anamarija Batistas 
 Dissertation Die Architektin als Instrumentenbauerin: Den Klang als Variat
 ion denken ein.
LAST-MODIFIED:20241028T152448Z
URL:https://www.akbild.ac.at/de/forschung/veranstaltungen/vortrage-events/
 2024/einladung-zur-defensio-von-anamarija-batista
END:VEVENT
BEGIN:VTIMEZONE
TZID:Europe/Vienna
X-LIC-LOCATION:Europe/Vienna
BEGIN:STANDARD
DTSTART:20241027T020000
TZNAME:CET
TZOFFSETFROM:+0200
TZOFFSETTO:+0100
END:STANDARD
END:VTIMEZONE
END:VCALENDAR
