BEGIN:VCALENDAR
VERSION:2.0
PRODID:-//Plone.org//NONSGML plone.app.event//EN
X-WR-TIMEZONE:Europe/Vienna
BEGIN:VEVENT
SUMMARY:Einladung zur Defensio von Anke Dyes
DTSTART;TZID=Europe/Vienna:20240417T121500
DTSTAMP:20260425T164838Z
UID:424888e14f6e4428af3ad02f11212cf2@www.akbild.ac.at
CATEGORIES:Vorträge / Veranstaltungen
CREATED:20240405T072743Z
DESCRIPTION:Das Institut für Kunst- und Kulturwissenschaften der Akademie
  der bildenden Künste lädt herzlich zur Defensio von Anke Dyes‘ Disser
 tation Best Gay Ghosts – Lesen\, Schreiben und Empfehlen von Liebesroman
 en in digitalen Netzwerkstrukturen ein.
LAST-MODIFIED:20240802T102151Z
URL:https://www.akbild.ac.at/de/forschung/veranstaltungen/vortrage-events/
 2024/einladung-zur-defensio-von-anke-dyes
END:VEVENT
BEGIN:VTIMEZONE
TZID:Europe/Vienna
X-LIC-LOCATION:Europe/Vienna
BEGIN:DAYLIGHT
DTSTART:20240331T030000
TZNAME:CEST
TZOFFSETFROM:+0100
TZOFFSETTO:+0200
END:DAYLIGHT
END:VTIMEZONE
END:VCALENDAR
