BEGIN:VCALENDAR
VERSION:2.0
PRODID:-//Plone.org//NONSGML plone.app.event//EN
X-WR-TIMEZONE:Europe/Vienna
BEGIN:VEVENT
SUMMARY:Einladung zur Defensio von Aykan Safoğlu
DTSTART;TZID=Europe/Vienna:20250401T160000
DTSTAMP:20260424T185817Z
UID:9d930b70082f454fb06a97afde2c1520@www.akbild.ac.at
CATEGORIES:Vorträge / Veranstaltungen
CREATED:20250312T125344Z
DESCRIPTION:Das PhD in Practice Programm der Akademie der bildenden Künst
 e lädt herzlich zur Defensio von Aykan Safoğlus Dissertation „Flackern
 de Migrationen: Bilder der Unterbrechung\, Pfändung und Erlösung für de
 utsch-türkische Schulden des Werdens“ ein.
LAST-MODIFIED:20250318T101541Z
URL:https://www.akbild.ac.at/de/forschung/veranstaltungen/vortrage-events/
 2025/einladung-zur-defensio-von-aykan-safoglu
END:VEVENT
BEGIN:VTIMEZONE
TZID:Europe/Vienna
X-LIC-LOCATION:Europe/Vienna
BEGIN:DAYLIGHT
DTSTART:20250330T030000
TZNAME:CEST
TZOFFSETFROM:+0100
TZOFFSETTO:+0200
END:DAYLIGHT
END:VTIMEZONE
END:VCALENDAR
