BEGIN:VCALENDAR
VERSION:2.0
PRODID:-//Plone.org//NONSGML plone.app.event//EN
X-WR-TIMEZONE:Europe/Vienna
BEGIN:VEVENT
SUMMARY:Einladung zur Defensio von Mehri Khalil
DTSTART;TZID=Europe/Vienna:20251111T180000
DTEND;TZID=Europe/Vienna:20251111T190000
DTSTAMP:20260424T221300Z
UID:b4f8dccfba9049e6819af2606d681a8b@www.akbild.ac.at
CREATED:20251103T133937Z
DESCRIPTION:Das Institut für Kunst- und Kulturwissenschaften der Akademie
  der bildenden Künste Wien lädt herzlich zur Defensio von Mehri Khalils
  Dissertation „Wurzeln und Wege: Die Reise zweier ägyptischer Künstler
  in Paris und darüber hinaus” ein.
LAST-MODIFIED:20251104T135943Z
URL:https://www.akbild.ac.at/de/forschung/veranstaltungen/vortrage-events/
 2025/einladung-zur-defensio-von-mehri-khalil
END:VEVENT
BEGIN:VTIMEZONE
TZID:Europe/Vienna
X-LIC-LOCATION:Europe/Vienna
BEGIN:STANDARD
DTSTART:20251026T020000
TZNAME:CET
TZOFFSETFROM:+0200
TZOFFSETTO:+0100
END:STANDARD
END:VTIMEZONE
END:VCALENDAR
