BEGIN:VCALENDAR
VERSION:2.0
PRODID:-//Plone.org//NONSGML plone.app.event//EN
X-WR-TIMEZONE:Europe/Vienna
BEGIN:VEVENT
SUMMARY:Welcome-Session für das Doktorat der Philosophie
DTSTART;TZID=Europe/Vienna:20251105T140000
DTEND;TZID=Europe/Vienna:20251105T150000
DTSTAMP:20260424T100202Z
UID:60e809b60f254f08a6a553a4cd53b24b@www.akbild.ac.at
CREATED:20251013T083638Z
DESCRIPTION:Wir möchten alle neuen Studierenden des Doktorats der Philoso
 phie ganz herzlich zur Welcome-Session des Doktoratszentrums einladen\, um
  sich auf das neue Studium einzustimmen.
LAST-MODIFIED:20260218T124021Z
URL:https://www.akbild.ac.at/de/forschung/veranstaltungen/vortrage-events/
 2025/willkommen-im-neuen-semester
END:VEVENT
BEGIN:VTIMEZONE
TZID:Europe/Vienna
X-LIC-LOCATION:Europe/Vienna
BEGIN:STANDARD
DTSTART:20251026T020000
TZNAME:CET
TZOFFSETFROM:+0200
TZOFFSETTO:+0100
END:STANDARD
END:VTIMEZONE
END:VCALENDAR
