BEGIN:VCALENDAR
VERSION:2.0
PRODID:-//Plone.org//NONSGML plone.app.event//EN
X-WR-TIMEZONE:Europe/Vienna
BEGIN:VEVENT
SUMMARY:Einladung zum Rigorosum von Sony Devabhaktuni
DTSTART;TZID=Europe/Vienna:20260112T140000
DTEND;TZID=Europe/Vienna:20260112T150000
DTSTAMP:20260420T043451Z
UID:c4194d4c3b614c02983156a083c26a55@www.akbild.ac.at
CATEGORIES:Vorträge / Veranstaltungen
CREATED:20251217T102210Z
DESCRIPTION:Das Institut für Kunst und Architektur der Akademie der bilde
 nden Künste lädt herzlich zum Rigorosum von Sony Devabhaktunis Dissertat
 ion "Ein Raum als Raum. Eine Untersuchung der räumlichen Imagination der 
 Geographin Doreen Massey und ihrer Implikationen für die Architektur" ein
 .
LAST-MODIFIED:20251217T140511Z
URL:https://www.akbild.ac.at/de/forschung/veranstaltungen/vortrage-events/
 2026/einladung-zum-rigorosum-von-sony-devabhaktuni
END:VEVENT
BEGIN:VTIMEZONE
TZID:Europe/Vienna
X-LIC-LOCATION:Europe/Vienna
BEGIN:STANDARD
DTSTART:20251026T020000
TZNAME:CET
TZOFFSETFROM:+0200
TZOFFSETTO:+0100
END:STANDARD
END:VTIMEZONE
END:VCALENDAR
