BEGIN:VCALENDAR
VERSION:2.0
PRODID:-//Plone.org//NONSGML plone.app.event//EN
X-WR-TIMEZONE:Europe/Vienna
BEGIN:VEVENT
SUMMARY:Final steps: Abgabe der Dissertation und Defensio / Rigorosum
DTSTART;TZID=Europe/Vienna:20260114T130000
DTEND;TZID=Europe/Vienna:20260114T153000
DTSTAMP:20260420T023623Z
UID:68a863860ba0450597926210a48620d3@www.akbild.ac.at
CATEGORIES:Vorträge / Veranstaltungen
CREATED:20250407T102529Z
DESCRIPTION:Wie reiche ich meine Dissertation formal richtig ein? Was ist 
 ein Sperrantrag und wie hängt er mit meiner geplanten Publikation zusamme
 n? Wieso kann eine freiwillige Plagiatsprüfung vor Abgabe sinnvoll sein? 
 Wie und wann melde ich mich zur Defensio oder zum Rigorosum an?
LAST-MODIFIED:20251216T133356Z
URL:https://www.akbild.ac.at/de/forschung/veranstaltungen/vortrage-events/
 2026/final-steps-abgabe-der-dissertation-und-defensio-rigorosum
END:VEVENT
BEGIN:VTIMEZONE
TZID:Europe/Vienna
X-LIC-LOCATION:Europe/Vienna
BEGIN:STANDARD
DTSTART:20251026T020000
TZNAME:CET
TZOFFSETFROM:+0200
TZOFFSETTO:+0100
END:STANDARD
END:VTIMEZONE
END:VCALENDAR
