BEGIN:VCALENDAR
VERSION:2.0
PRODID:-//Plone.org//NONSGML plone.app.event//EN
X-WR-TIMEZONE:Europe/Vienna
BEGIN:VEVENT
SUMMARY:Online-Info-Session für Inskription in das Doktorat der Philosoph
 ie SoSe 2026
DTSTART;TZID=Europe/Vienna:20260211T103000
DTEND;TZID=Europe/Vienna:20260211T113000
DTSTAMP:20260420T043447Z
UID:cfccd70013bf45c7b157b0412aad5439@www.akbild.ac.at
CATEGORIES:Vorträge / Veranstaltungen
CREATED:20250922T085153Z
DESCRIPTION:In dieser Online-Session werden Fragen rund um die Inskription
  (Anforderungen\, mögliche Hürden\, Voraussetzungen) zum Doktorat der Ph
 ilosophie beantwortet.
LAST-MODIFIED:20250922T090923Z
URL:https://www.akbild.ac.at/de/forschung/veranstaltungen/vortrage-events/
 2026/online-info-session-fuer-inskription-in-das-doktorat-der-philosophie-
 sose-2026
END:VEVENT
BEGIN:VTIMEZONE
TZID:Europe/Vienna
X-LIC-LOCATION:Europe/Vienna
BEGIN:STANDARD
DTSTART:20251026T020000
TZNAME:CET
TZOFFSETFROM:+0200
TZOFFSETTO:+0100
END:STANDARD
END:VTIMEZONE
END:VCALENDAR
