BEGIN:VCALENDAR
VERSION:2.0
PRODID:-//Plone.org//NONSGML plone.app.event//EN
X-WR-TIMEZONE:Europe/Vienna
BEGIN:VEVENT
SUMMARY:Online-Info-Session für Inskription in das Doktorat der Philosoph
 ie WiSe 2026-27
DTSTART;TZID=Europe/Vienna:20260909T103000
DTEND;TZID=Europe/Vienna:20260909T113000
DTSTAMP:20260420T023700Z
UID:c1c57ba478e748c8b30162fb71172ba1@www.akbild.ac.at
CATEGORIES:Vorträge / Veranstaltungen
CREATED:20260217T135751Z
DESCRIPTION:In dieser Online-Session werden Fragen rund um die Inskription
  (Anforderungen\, mögliche Hürden\, Voraussetzungen) zum Doktorat der Ph
 ilosophie beantwortet.
LAST-MODIFIED:20260217T140445Z
URL:https://www.akbild.ac.at/de/forschung/veranstaltungen/vortrage-events/
 2026/online-info-session-fuer-inskription-in-das-doktorat-der-philosophie-
 wise-2026-27
END:VEVENT
BEGIN:VTIMEZONE
TZID:Europe/Vienna
X-LIC-LOCATION:Europe/Vienna
BEGIN:DAYLIGHT
DTSTART:20260329T030000
TZNAME:CEST
TZOFFSETFROM:+0100
TZOFFSETTO:+0200
END:DAYLIGHT
END:VTIMEZONE
END:VCALENDAR
