BEGIN:VCALENDAR
VERSION:2.0
PRODID:-//Plone.org//NONSGML plone.app.event//EN
X-WR-TIMEZONE:Europe/Vienna
BEGIN:VEVENT
SUMMARY:Open Door Event Sommersemester 2026
DTSTART;TZID=Europe/Vienna:20260325T130000
DTEND;TZID=Europe/Vienna:20260325T143000
DTSTAMP:20260420T043326Z
UID:c489ef164a1442f4bf728a8f359deff0@www.akbild.ac.at
CATEGORIES:Vorträge / Veranstaltungen
CREATED:20250922T100533Z
DESCRIPTION:Das Doktoratszentrum lädt alle Doktorats- und PhD-Studierende
 n zu einer Open Door-Veranstaltung für das Sommersemester 2026 ein.
LAST-MODIFIED:20260414T115529Z
URL:https://www.akbild.ac.at/de/forschung/veranstaltungen/vortrage-events/
 2026/open-door-event-sommersemester-2026
END:VEVENT
BEGIN:VTIMEZONE
TZID:Europe/Vienna
X-LIC-LOCATION:Europe/Vienna
BEGIN:STANDARD
DTSTART:20251026T020000
TZNAME:CET
TZOFFSETFROM:+0200
TZOFFSETTO:+0100
END:STANDARD
END:VTIMEZONE
END:VCALENDAR
