BEGIN:VCALENDAR
VERSION:2.0
PRODID:-//Plone.org//NONSGML plone.app.event//EN
X-WR-TIMEZONE:Europe/Vienna
BEGIN:VEVENT
SUMMARY:Welcome-Session für das Doktorat der Philosophie
DTSTART;TZID=Europe/Vienna:20260415T130000
DTEND;TZID=Europe/Vienna:20260415T140000
DTSTAMP:20260422T193358Z
UID:6cd481106d67451cb34738acb1d56027@www.akbild.ac.at
CREATED:20260218T124150Z
DESCRIPTION:Wir möchten alle neuen Studierenden des Doktorats der Philoso
 phie ganz herzlich zur Welcome-Session des Doktoratszentrums einladen\, um
  sich auf das neue Studium einzustimmen.
LAST-MODIFIED:20260414T115615Z
URL:https://www.akbild.ac.at/de/forschung/veranstaltungen/vortrage-events/
 2026/welcome-session-fuer-das-doktorat-der-philosophie
END:VEVENT
BEGIN:VTIMEZONE
TZID:Europe/Vienna
X-LIC-LOCATION:Europe/Vienna
BEGIN:DAYLIGHT
DTSTART:20260329T030000
TZNAME:CEST
TZOFFSETFROM:+0100
TZOFFSETTO:+0200
END:DAYLIGHT
END:VTIMEZONE
END:VCALENDAR
