BEGIN:VCALENDAR
VERSION:2.0
PRODID:-//Plone.org//NONSGML plone.app.event//EN
X-WR-TIMEZONE:Europe/Vienna
BEGIN:VEVENT
SUMMARY:Warum\, wozu und wie? Ein Exposé schreiben – Fundament einer er
 folgreichen Dissertation
DTSTART;TZID=Europe/Vienna:20181115T093000
DTEND;TZID=Europe/Vienna:20181115T170000
DTSTAMP:20260424T135310Z
UID:525eb7bd547ca7af0fdac102d3eda520@www.akbild.ac.at
CREATED:20220312T112100Z
DESCRIPTION:Anmeldung bis 6.11.2018\n \n\n\n Wie präsentiert man ein Diss
 ertationsvorhaben? Worauf kommt es an? Was wird auf fünf bis fünfzehn Se
 iten zu Papier gebracht? Was macht den Unterschied zwischen einer lästige
 n Pflicht und einer nützlichen Vorarbeit aus?
LAST-MODIFIED:20240802T102208Z
URL:https://www.akbild.ac.at/de/forschung/veranstaltungen/workshops/2018/w
 arum-wozu-und-wie-ein-expose-schreiben-fundament-einer-erfolgreichen-disse
 rtation/SubEvent
END:VEVENT
BEGIN:VTIMEZONE
TZID:Europe/Vienna
X-LIC-LOCATION:Europe/Vienna
BEGIN:STANDARD
DTSTART:20181028T020000
TZNAME:CET
TZOFFSETFROM:+0200
TZOFFSETTO:+0100
END:STANDARD
END:VTIMEZONE
END:VCALENDAR
