BEGIN:VCALENDAR
VERSION:2.0
PRODID:-//Plone.org//NONSGML plone.app.event//EN
X-WR-TIMEZONE:Europe/Vienna
BEGIN:VEVENT
SUMMARY:2nd Online Coffee Table Talk
DTSTART;TZID=Europe/Vienna:20200623T140000
DTEND;TZID=Europe/Vienna:20200623T150000
DTSTAMP:20260424T161808Z
UID:f4712ad97df928554e89b81471da03db@www.akbild.ac.at
CATEGORIES:Workshops
CREATED:20220312T112120Z
DESCRIPTION:Coffee Table Talks is a new peer-to-peer event-series happenin
 g once per month during the semester.
LAST-MODIFIED:20240802T102208Z
URL:https://www.akbild.ac.at/de/forschung/veranstaltungen/workshops/2020/2
 nd-online-coffee-table-talk
END:VEVENT
BEGIN:VTIMEZONE
TZID:Europe/Vienna
X-LIC-LOCATION:Europe/Vienna
BEGIN:DAYLIGHT
DTSTART:20200329T030000
TZNAME:CEST
TZOFFSETFROM:+0100
TZOFFSETTO:+0200
END:DAYLIGHT
END:VTIMEZONE
END:VCALENDAR
