BEGIN:VCALENDAR
VERSION:2.0
PRODID:-//Plone.org//NONSGML plone.app.event//EN
X-WR-TIMEZONE:Europe/Vienna
BEGIN:VEVENT
SUMMARY:Coffee Table Talk: How to plan your semester in uncertain times
DTSTART;TZID=Europe/Vienna:20201111T140000
DTEND;TZID=Europe/Vienna:20201111T160000
DTSTAMP:20260422T151438Z
UID:e3be9eb9916a04e31ce345b89e87df76@www.akbild.ac.at
CATEGORIES:Workshops
CREATED:20220312T112123Z
DESCRIPTION:This Coffee Table Talk will deal with the question of how you 
 can plan  your semester despite the uncertainties that we encounter this  
 wintersemester.
LAST-MODIFIED:20240802T102208Z
URL:https://www.akbild.ac.at/de/forschung/veranstaltungen/workshops/2020/c
 offee-table-talk-how-to-plan-your-semester-in-uncertain-times
END:VEVENT
BEGIN:VTIMEZONE
TZID:Europe/Vienna
X-LIC-LOCATION:Europe/Vienna
BEGIN:STANDARD
DTSTART:20201025T020000
TZNAME:CET
TZOFFSETFROM:+0200
TZOFFSETTO:+0100
END:STANDARD
END:VTIMEZONE
END:VCALENDAR
