BEGIN:VCALENDAR
VERSION:2.0
PRODID:-//Plone.org//NONSGML plone.app.event//EN
X-WR-TIMEZONE:Europe/Vienna
BEGIN:VEVENT
SUMMARY:Webinar | How to write a grant proposal
DTSTART;TZID=Europe/Vienna:20200528T140000
DTEND;TZID=Europe/Vienna:20200528T160000
DTSTAMP:20260423T114019Z
UID:ba6a85a1aa0024b7a04d271903e0fe34@www.akbild.ac.at
CATEGORIES:Workshops
CREATED:20220312T112119Z
DESCRIPTION:Dieses englischsprachige Webinar bietet eine Einführung in da
 s Schreiben eines kompetitiven Förderantrags.
LAST-MODIFIED:20240802T102208Z
URL:https://www.akbild.ac.at/de/forschung/veranstaltungen/workshops/2020/h
 ow-to-write-a-grant-proposal
END:VEVENT
BEGIN:VTIMEZONE
TZID:Europe/Vienna
X-LIC-LOCATION:Europe/Vienna
BEGIN:DAYLIGHT
DTSTART:20200329T030000
TZNAME:CEST
TZOFFSETFROM:+0100
TZOFFSETTO:+0200
END:DAYLIGHT
END:VTIMEZONE
END:VCALENDAR
