BEGIN:VCALENDAR
VERSION:2.0
PRODID:-//Plone.org//NONSGML plone.app.event//EN
X-WR-TIMEZONE:Europe/Vienna
BEGIN:VEVENT
SUMMARY:Cancelled: Sommersemester 2020 Welcome Event & Launch of Coffee Ta
 ble Talks
DTSTART;TZID=Europe/Vienna:20200311T150000
DTEND;TZID=Europe/Vienna:20200311T170000
DTSTAMP:20260422T021601Z
UID:f4d83becb6392654da57f9671f6e24bf@www.akbild.ac.at
CATEGORIES:Workshops
CREATED:20220312T112117Z
DESCRIPTION:Das Doktoratszentrum lädt sehr herzlich zu einem Sommersemest
 er 2020 Welcome Event ein!\n \n Bei dem Welcome Event können sich Doktora
 tsstudierende über die   Angebote des Doktoratszentrums informieren sowie
  Kolleg_innen   kennenlernen. Dieses Event findet auf Englisch statt.
LAST-MODIFIED:20240802T102208Z
URL:https://www.akbild.ac.at/de/forschung/veranstaltungen/workshops/2020/s
 ommersemester-2020-welcome-event-launch-of-coffee-table-talks
END:VEVENT
BEGIN:VTIMEZONE
TZID:Europe/Vienna
X-LIC-LOCATION:Europe/Vienna
BEGIN:STANDARD
DTSTART:20191027T020000
TZNAME:CET
TZOFFSETFROM:+0200
TZOFFSETTO:+0100
END:STANDARD
END:VTIMEZONE
END:VCALENDAR
