BEGIN:VCALENDAR
VERSION:2.0
PRODID:-//Plone.org//NONSGML plone.app.event//EN
X-WR-TIMEZONE:Europe/Vienna
BEGIN:VEVENT
SUMMARY:Webinar | Productivity Kickstart and Strategy Session
DTSTART;TZID=Europe/Vienna:20200630T140000
DTEND;TZID=Europe/Vienna:20200630T160000
DTSTAMP:20260423T100044Z
UID:3e564f51a2589ff6fac6b204847c8ac9@www.akbild.ac.at
CATEGORIES:Workshops
CREATED:20220312T112121Z
DESCRIPTION:Academic productivity coach Kellee Weinhold gives a crash cour
 se in  kickstarting your summer (or your semester) writing and meeting you
 r  goals.
LAST-MODIFIED:20240802T102208Z
URL:https://www.akbild.ac.at/de/forschung/veranstaltungen/workshops/2020/w
 ebinar-productivity-kickstart-and-strategy-session
END:VEVENT
BEGIN:VTIMEZONE
TZID:Europe/Vienna
X-LIC-LOCATION:Europe/Vienna
BEGIN:DAYLIGHT
DTSTART:20200329T030000
TZNAME:CEST
TZOFFSETFROM:+0100
TZOFFSETTO:+0200
END:DAYLIGHT
END:VTIMEZONE
END:VCALENDAR
