BEGIN:VCALENDAR
VERSION:2.0
PRODID:-//Plone.org//NONSGML plone.app.event//EN
X-WR-TIMEZONE:Europe/Vienna
BEGIN:VEVENT
SUMMARY:Coffee Table Talk | ÖAW DOC application
DTSTART;TZID=Europe/Vienna:20210617T160000
DTEND;TZID=Europe/Vienna:20210617T180000
DTSTAMP:20260422T133101Z
UID:e6aee52b0c0539e5a30fed3db95ec908@www.akbild.ac.at
CATEGORIES:Workshops
CREATED:20220312T112132Z
DESCRIPTION:The Center for Doctoral Studies invites all doctoral students 
 of the Academy of Fine Arts Vienna to participate in an informative meetin
 g about the preparation of an ÖAW DOC application.
LAST-MODIFIED:20240802T102208Z
URL:https://www.akbild.ac.at/de/forschung/veranstaltungen/workshops/2021/c
 offee-table-talk-oeaw-doc-application
END:VEVENT
BEGIN:VTIMEZONE
TZID:Europe/Vienna
X-LIC-LOCATION:Europe/Vienna
BEGIN:DAYLIGHT
DTSTART:20210328T030000
TZNAME:CEST
TZOFFSETFROM:+0100
TZOFFSETTO:+0200
END:DAYLIGHT
END:VTIMEZONE
END:VCALENDAR
