BEGIN:VCALENDAR
VERSION:2.0
PRODID:-//Plone.org//NONSGML plone.app.event//EN
X-WR-TIMEZONE:Europe/Vienna
BEGIN:VEVENT
SUMMARY:Coffee Table Talk | ÖAW DOC-Antrag schreiben
DTSTART;TZID=Europe/Vienna:20220525T150000
DTEND;TZID=Europe/Vienna:20220525T180000
DTSTAMP:20260422T170718Z
UID:fc06f9e855564e5ffcf74f2ab52feb22@www.akbild.ac.at
CATEGORIES:Workshops
CREATED:20220312T112141Z
DESCRIPTION:Das Doktoratszentrum unterstützt alle Doktoratsstudierende de
 r Akademie der bildenden Künste bei der Erstellung und Einreichung eines 
 ÖAW DOC-Antrags.
LAST-MODIFIED:20240802T102208Z
URL:https://www.akbild.ac.at/de/forschung/veranstaltungen/workshops/2022/c
 offee-table-talk-oeaw-doc-antrag-schreiben
END:VEVENT
BEGIN:VTIMEZONE
TZID:Europe/Vienna
X-LIC-LOCATION:Europe/Vienna
BEGIN:DAYLIGHT
DTSTART:20220327T030000
TZNAME:CEST
TZOFFSETFROM:+0100
TZOFFSETTO:+0200
END:DAYLIGHT
END:VTIMEZONE
END:VCALENDAR
