BEGIN:VCALENDAR
VERSION:2.0
PRODID:-//Plone.org//NONSGML plone.app.event//EN
X-WR-TIMEZONE:Europe/Vienna
BEGIN:VEVENT
SUMMARY:Writing is rewriting: Vom ersten Entwurf zum abgabereifen Text
DTSTART;TZID=Europe/Vienna:20230316T120000
DTEND;TZID=Europe/Vienna:20230316T160000
DTSTAMP:20260424T105510Z
UID:5b20104171544f1fac677268bc7dee5a@www.akbild.ac.at
CATEGORIES:Workshops
CREATED:20220921T140349Z
DESCRIPTION:Wie überarbeite ich meine erste Version sinnvoll?Wo fange ich
  an? Wann höre ich auf?Welche Strategien können mir beim Überarbeiten h
 elfen?Wie erhalte ich hilfreiches Feedback?
LAST-MODIFIED:20240802T102208Z
URL:https://www.akbild.ac.at/de/forschung/veranstaltungen/workshops/2022/w
 riting-is-rewriting-vom-ersten-entwurf-zum-abgabereifen-text
END:VEVENT
BEGIN:VTIMEZONE
TZID:Europe/Vienna
X-LIC-LOCATION:Europe/Vienna
BEGIN:STANDARD
DTSTART:20221030T020000
TZNAME:CET
TZOFFSETFROM:+0200
TZOFFSETTO:+0100
END:STANDARD
END:VTIMEZONE
END:VCALENDAR
