BEGIN:VCALENDAR
VERSION:2.0
PRODID:-//Plone.org//NONSGML plone.app.event//EN
X-WR-TIMEZONE:Europe/Vienna
BEGIN:VEVENT
SUMMARY:Wege zur Early Postdoc-Karriere
DTSTART;TZID=Europe/Vienna:20231122T100000
DTEND;TZID=Europe/Vienna:20231122T113000
DTSTAMP:20260424T105352Z
UID:abd2d499138f4b21933ce4a7ccfbd836@www.akbild.ac.at
CREATED:20231018T120839Z
DESCRIPTION:Das Forschungsservice und das Doktoratszentrum laden alle inte
 ressierten Doktorand_innen sowie alle (Early) Postdocs herzlich zu einem i
 nformellen Meeting ein\, um sich über Möglichkeiten einer Early Postdoc-
 Karriere zu informieren und auzutauschen.
LAST-MODIFIED:20240802T102208Z
URL:https://www.akbild.ac.at/de/forschung/veranstaltungen/workshops/2023/w
 ege-zur-early-postdoc-karriere
END:VEVENT
BEGIN:VTIMEZONE
TZID:Europe/Vienna
X-LIC-LOCATION:Europe/Vienna
BEGIN:STANDARD
DTSTART:20231029T020000
TZNAME:CET
TZOFFSETFROM:+0200
TZOFFSETTO:+0100
END:STANDARD
END:VTIMEZONE
END:VCALENDAR
