BEGIN:VCALENDAR
VERSION:2.0
PRODID:-//Plone.org//NONSGML plone.app.event//EN
X-WR-TIMEZONE:Europe/Vienna
BEGIN:VEVENT
SUMMARY:Urheberrecht - Richtig zitieren\, Plagiate vermeiden
DTSTART;TZID=Europe/Vienna:20251126T100000
DTEND;TZID=Europe/Vienna:20251126T160000
DTSTAMP:20260420T043320Z
UID:1cfd5f3a26ee4f68b4330f59b1b19530@www.akbild.ac.at
CREATED:20250902T125631Z
DESCRIPTION:Der Workshop befasst sich mit Fragen rund um Urheberrechte in 
 der Dissertation und gibt Hinweise\, Tipps und Hintergrundwissen\, wie Urh
 eberrechte beim Verfassen der Dissertation berücksichtigt werden müssen.
LAST-MODIFIED:20251118T122233Z
URL:https://www.akbild.ac.at/de/forschung/veranstaltungen/workshops/2025/s
 ave-the-date-urheberrecht
END:VEVENT
BEGIN:VTIMEZONE
TZID:Europe/Vienna
X-LIC-LOCATION:Europe/Vienna
BEGIN:STANDARD
DTSTART:20251026T020000
TZNAME:CET
TZOFFSETFROM:+0200
TZOFFSETTO:+0100
END:STANDARD
END:VTIMEZONE
END:VCALENDAR
