BEGIN:VCALENDAR
VERSION:2.0
PRODID:-//Plone.org//NONSGML plone.app.event//EN
X-WR-TIMEZONE:Europe/Vienna
BEGIN:VEVENT
SUMMARY:abgesagt: ÖAW DOC-Antrag schreiben (2026)
DTSTART;TZID=Europe/Vienna:20260422T130000
DTEND;TZID=Europe/Vienna:20260422T150000
DTSTAMP:20260420T023615Z
UID:c550f3be0bcb4089b6e4ea2ea5b768f0@www.akbild.ac.at
CATEGORIES:Workshops
CREATED:20250922T092158Z
DESCRIPTION:Das Doktoratszentrum lädt alle Doktorand_innen der Akademie d
 er bildenden Künste Wien\, die sich für das  ÖAW-DOC-Stipendium bewerb
 en möchten\, zu dieser Veranstaltung ein. Wir werden Anforderungen\, Vorb
 ereitung\, Antragstellung und weitere Themen rund um die Einreichung behan
 delt. [Abgesagt wegen zu weniger Anmeldungen]
LAST-MODIFIED:20260414T121837Z
URL:https://www.akbild.ac.at/de/forschung/veranstaltungen/workshops/2026/o
 eaw-doc-antrag-schreiben-sose-2026
END:VEVENT
BEGIN:VTIMEZONE
TZID:Europe/Vienna
X-LIC-LOCATION:Europe/Vienna
BEGIN:DAYLIGHT
DTSTART:20260329T030000
TZNAME:CEST
TZOFFSETFROM:+0100
TZOFFSETTO:+0200
END:DAYLIGHT
END:VTIMEZONE
END:VCALENDAR
