BEGIN:VCALENDAR
VERSION:2.0
PRODID:-//Plone.org//NONSGML plone.app.event//EN
X-WR-TIMEZONE:Europe/Vienna
BEGIN:VEVENT
SUMMARY:Dissens : Wiederholung | eine aufmerksame Praxis versuchen
DTSTART;TZID=Europe/Vienna:20140605T180000
DTSTAMP:20260419T121335Z
UID:5860449a1bbf0ad480909508d8fcae42@www.akbild.ac.at
CREATED:20220312T084620Z
DESCRIPTION:Eine Ausstellung der Freien Klasse.\n\n\n Begrüßung: Christi
 ane Krejs\n \n Zur Ausstellung: Sophie Utikal\, Denise Fragner\, Patrick W
 iesauer\n \n Performance im Horoskopzelt: Risotto\, Martin Chramosta\n \n 
 Carry On\, Wiedergegebenes\, Angela Strohberger ( nicht allein)\n \n Musik
  Musik Musik (von mehr als einer Person und DJ Playlist)
LAST-MODIFIED:20240919T081237Z
URL:https://www.akbild.ac.at/de/institute/bildende-kunst/veranstaltungen/a
 usstellungen-vermittlung/2014/dissens-wiederholung-eine-aufmerksame-praxis
 -versuchen/SubEvent
END:VEVENT
BEGIN:VTIMEZONE
TZID:Europe/Vienna
X-LIC-LOCATION:Europe/Vienna
BEGIN:DAYLIGHT
DTSTART:20140330T030000
TZNAME:CEST
TZOFFSETFROM:+0100
TZOFFSETTO:+0200
END:DAYLIGHT
END:VTIMEZONE
END:VCALENDAR
