BEGIN:VCALENDAR
VERSION:2.0
PRODID:-//Plone.org//NONSGML plone.app.event//EN
X-WR-TIMEZONE:Europe/Vienna
BEGIN:VEVENT
SUMMARY:PhD in Practice: Michael Baers\, Ana Hoffner und Elske Rosenfeld
DTSTART;TZID=Europe/Vienna:20141007T180000
DTSTAMP:20260423T175818Z
UID:c019bea31c407f75068adfe877e662dc@www.akbild.ac.at
CREATED:20220312T084624Z
DESCRIPTION:Ausstellung anlässlich der Dissertationen von Michael Baers\,
  Ana Hoffner und Elske Rosenfeld\n \n \n Öffnungszeiten: täglich 12.00 -
  18.00 h\, an Montagen geschlossen
LAST-MODIFIED:20240919T081237Z
URL:https://www.akbild.ac.at/de/institute/bildende-kunst/veranstaltungen/a
 usstellungen-vermittlung/2014/phd-in-practice/SubEvent
END:VEVENT
BEGIN:VTIMEZONE
TZID:Europe/Vienna
X-LIC-LOCATION:Europe/Vienna
BEGIN:DAYLIGHT
DTSTART:20140330T030000
TZNAME:CEST
TZOFFSETFROM:+0100
TZOFFSETTO:+0200
END:DAYLIGHT
END:VTIMEZONE
END:VCALENDAR
