BEGIN:VCALENDAR
VERSION:2.0
PRODID:-//Plone.org//NONSGML plone.app.event//EN
X-WR-TIMEZONE:Europe/Vienna
BEGIN:VEVENT
SUMMARY:I see a bird\, I see a painting of a bird\, I see no bird at all\,
  I see ...“
DTSTART;TZID=Europe/Vienna:20200310T190000
DTSTAMP:20260425T110701Z
UID:2a5d6d38cb0c41977ceff5e083f2ce57@www.akbild.ac.at
CREATED:20220312T084816Z
DESCRIPTION:Ausstellung kuratiert von Erwin Bohatsch\, Fachbereich Abstrak
 te Malerei und Martin Janda\, Galerist.\n \n Öffnungszeiten: 11–18 Uhr\
 n \n Finissage mit Führung der ausstellenden Künstler*innen: Sa.\, 14.3.
 \, 16–18 Uhr
LAST-MODIFIED:20240919T081234Z
URL:https://www.akbild.ac.at/de/institute/bildende-kunst/veranstaltungen/a
 usstellungen-vermittlung/2020/i-see-a-bird-i-see-a-painting-of-a-bird-i-se
 e-no-bird-at-all-i-see-...201c/SubEvent
END:VEVENT
BEGIN:VTIMEZONE
TZID:Europe/Vienna
X-LIC-LOCATION:Europe/Vienna
BEGIN:STANDARD
DTSTART:20191027T020000
TZNAME:CET
TZOFFSETFROM:+0200
TZOFFSETTO:+0100
END:STANDARD
END:VTIMEZONE
END:VCALENDAR
